BEGIN:VCALENDAR
VERSION:2.0
PRODID:-//City of Bridges Foundation - ECPv6.15.20//NONSGML v1.0//EN
CALSCALE:GREGORIAN
METHOD:PUBLISH
X-WR-CALNAME:City of Bridges Foundation
X-ORIGINAL-URL:https://cityofbridgesfoundation.org
X-WR-CALDESC:Events for City of Bridges Foundation
REFRESH-INTERVAL;VALUE=DURATION:PT1H
X-Robots-Tag:noindex
X-PUBLISHED-TTL:PT1H
BEGIN:VTIMEZONE
TZID:America/New_York
BEGIN:DAYLIGHT
TZOFFSETFROM:-0500
TZOFFSETTO:-0400
TZNAME:EDT
DTSTART:20230312T070000
END:DAYLIGHT
BEGIN:STANDARD
TZOFFSETFROM:-0400
TZOFFSETTO:-0500
TZNAME:EST
DTSTART:20231105T060000
END:STANDARD
BEGIN:DAYLIGHT
TZOFFSETFROM:-0500
TZOFFSETTO:-0400
TZNAME:EDT
DTSTART:20240310T070000
END:DAYLIGHT
BEGIN:STANDARD
TZOFFSETFROM:-0400
TZOFFSETTO:-0500
TZNAME:EST
DTSTART:20241103T060000
END:STANDARD
BEGIN:DAYLIGHT
TZOFFSETFROM:-0500
TZOFFSETTO:-0400
TZNAME:EDT
DTSTART:20250309T070000
END:DAYLIGHT
BEGIN:STANDARD
TZOFFSETFROM:-0400
TZOFFSETTO:-0500
TZNAME:EST
DTSTART:20251102T060000
END:STANDARD
END:VTIMEZONE
BEGIN:VTIMEZONE
TZID:America/New_York
BEGIN:DAYLIGHT
TZOFFSETFROM:-0500
TZOFFSETTO:-0400
TZNAME:EDT
DTSTART:20220313T070000
END:DAYLIGHT
BEGIN:STANDARD
TZOFFSETFROM:-0400
TZOFFSETTO:-0500
TZNAME:EST
DTSTART:20221106T060000
END:STANDARD
BEGIN:DAYLIGHT
TZOFFSETFROM:-0500
TZOFFSETTO:-0400
TZNAME:EDT
DTSTART:20230312T070000
END:DAYLIGHT
BEGIN:STANDARD
TZOFFSETFROM:-0400
TZOFFSETTO:-0500
TZNAME:EST
DTSTART:20231105T060000
END:STANDARD
BEGIN:DAYLIGHT
TZOFFSETFROM:-0500
TZOFFSETTO:-0400
TZNAME:EDT
DTSTART:20240310T070000
END:DAYLIGHT
BEGIN:STANDARD
TZOFFSETFROM:-0400
TZOFFSETTO:-0500
TZNAME:EST
DTSTART:20241103T060000
END:STANDARD
END:VTIMEZONE
BEGIN:VEVENT
DTSTART;TZID=America/New_York:20240120T140000
DTEND;TZID=America/New_York:20240120T180000
DTSTAMP:20260424T115253
CREATED:20231209T201538Z
LAST-MODIFIED:20240107T004535Z
UID:9261-1705759200-1705773600@cityofbridgesfoundation.org
SUMMARY:Turkish Cooking Class
DESCRIPTION:
URL:https://cityofbridgesfoundation.org/event/turkish-cooking-class/
LOCATION:St. Paul’s Episcopal Church\, 1066 Washington Rd.\, Pittsburgh\, PA 15228\, Pittsburgh\, 15228\, United States
CATEGORIES:COBF Events
ATTACH;FMTTYPE=image/png:https://cityofbridgesfoundation.org/wp-content/uploads/2023/12/Untitled-design-7.png
ORGANIZER;CN="Turkish Cultural Center":MAILTO:info@cityofbridgesfoundation.org
END:VEVENT
BEGIN:VEVENT
DTSTART;TZID=America/New_York:20231202T170000
DTEND;TZID=America/New_York:20231202T210000
DTSTAMP:20260424T115253
CREATED:20231115T022847Z
LAST-MODIFIED:20231118T062325Z
UID:9237-1701536400-1701550800@cityofbridgesfoundation.org
SUMMARY:COOKING CLASS
DESCRIPTION: 
URL:https://cityofbridgesfoundation.org/event/cooking-class-3/
LOCATION:Turkish Cultural Center\, 1459 Crane Ave\, Pittsburgh\, 15220\, United States
CATEGORIES:COBF Events
ORGANIZER;CN="Turkish Cultural Center":MAILTO:info@cityofbridgesfoundation.org
END:VEVENT
BEGIN:VEVENT
DTSTART;TZID=America/New_York:20231019T180000
DTEND;TZID=America/New_York:20231019T210000
DTSTAMP:20260424T115253
CREATED:20230912T020937Z
LAST-MODIFIED:20230912T021853Z
UID:9201-1697738400-1697749200@cityofbridgesfoundation.org
SUMMARY:TURKISH CULTURAL CENTER PRESENTS 20th ANNUAL FRINEDSHIP DINNER
DESCRIPTION:Join us for a captivating evening of unity\, understanding\, and fellowship at the 20th Annual Friendship Dinner hosted by the Turkish Cultural Center Pittsburgh. \n\n\nThema: The Healing of Memories in Interfaith Dialogue  \n\nPrepare to be inspired as we delve into the profound theme of healing through interfaith dialogue. \nKeynote Speaker: Rev. Larry Golemon\, PhD\, Executive Director of the Washington Theological Consortium. \nDiverse Perspectives\, Meaningful Connections\nExperience the power of community as we bring together speakers from various backgrounds to enrich our dialogue. Witness an enlightening award ceremony that acknowledges outstanding contributions to fostering understanding and harmony.\n\nA Culinary Journey\nIndulge in the enchanting flavors of traditional Turkish cuisine\, meticulously prepared to tantalize your taste buds. This delectable culinary experience promises to be a true delight for the senses.\n\nSecure Your Spot Today!\nDon’t miss out on this remarkable opportunity to engage in meaningful conversations and forge lasting connections. Reserve your seat now by purchasing your ticket at only $50 per person.\n\n\n\n\n\nJoin us as we celebrate two decades of friendship\, dialogue\, and growth. Your presence will make this evening truly special. See you there!
URL:https://cityofbridgesfoundation.org/event/turkish-cultural-center-presents-20th-annual-frinedship-dinner/
LOCATION:Omni William Penn Hotel\, 530 William Penn Place\, Pittsburgh\, PA\, 15219\, United States
CATEGORIES:COBF Events
ATTACH;FMTTYPE=image/png:https://cityofbridgesfoundation.org/wp-content/uploads/2023/09/2023-FRIENDSHIP-DINNER-INVITATION-PNG-1.png
ORGANIZER;CN="Turkish Cultural Center":MAILTO:info@cityofbridgesfoundation.org
END:VEVENT
BEGIN:VEVENT
DTSTART;TZID=America/New_York:20231016T180000
DTEND;TZID=America/New_York:20231016T200000
DTSTAMP:20260424T115253
CREATED:20230823T000928Z
LAST-MODIFIED:20230823T001034Z
UID:9176-1697479200-1697486400@cityofbridgesfoundation.org
SUMMARY:Abraham's Table (Vol: Abraham's Hospitality)
DESCRIPTION:Dear friends\nWe are glad to offer to you a warm invitation to an exciting and informative interfaith discussion series event called Abraham’s Table. Temple Emanuel of South Hills\, St. Paul’s Episcopal Church\, and the Turkish Cultural Center Pittsburgh are working together to put on this one-of-a-kind event. \nAbraham’s Table seeks to promote communication\, understanding\, and peace among people from different religious and cultural backgrounds. Each month\, a fresh thought-provoking subject will be featured\, followed by engaging table conversations in which participants may\nshare their views and viewpoints. \n  \n[gdlr_widget_box title=”The following is the timetable for each session:” title-color=”#fbaf42″ background=”#231f20″ color=”#ffffff” ]\n18:00-18:30………………………………………Dinner \n18:30-19:30……………………………………….Presentation and Table Discussion \n19:30-20:00………………………………………Q & A\n[/gdlr_widget_box] \n  \nWe are thrilled to provide a delicious eating experience to all guests\, and food will be served during the event. The program is available to individuals of all religions and backgrounds\, and we urge you to invite your friends\, family\, and coworkers to participate in this wonderful activity.\nWe kindly request your RSVP so that we can comfortably accommodate all attendees and make the appropriate preparations for the dinner and conversations. Please confirm your presence by clicking on the link below:
URL:https://cityofbridgesfoundation.org/event/abrahams-table-vol-abrahams-hospitality/
LOCATION:ST. PAUL’s EPISCOPAL CHURCH\, 1066 Washington Rd\, Pittsburgh\, PA\, 15228\, United States
CATEGORIES:COBF Events
ATTACH;FMTTYPE=application/pdf:https://cityofbridgesfoundation.org/wp-content/uploads/2023/08/ABRAHAMs-TABLE-FINAL-1.pdf
ORGANIZER;CN="St. Episcopal Church":MAILTO:noah@stpaulspgh.org
END:VEVENT
BEGIN:VEVENT
DTSTART;TZID=America/New_York:20230916T170000
DTEND;TZID=America/New_York:20230916T190000
DTSTAMP:20260424T115253
CREATED:20230823T002749Z
LAST-MODIFIED:20230823T004022Z
UID:9192-1694883600-1694890800@cityofbridgesfoundation.org
SUMMARY:Cooking Class
DESCRIPTION:Sweet Treat: Indulge in Turkish delight\, a delightful dessert that brings a sweet finale to your culinary adventure.\nTurkish Coffee: Immerse yourself in tradition with rich\, aromatic Turkish coffee—perfect for sipping and savoring. \nJoin Us: Come with appetite and enthusiasm! Our skilled volunteers will lead you step by step\, leaving you with new skills\, cherished memories\, and a satisfied palate. \n[gdlr_core_row]\n[gdlr_core_column size=”1/3″][/gdlr_core_column]\n[gdlr_core_column size=”1/3″] \n\n[/gdlr_core_column]\n[gdlr_core_column size=”1/3″][/gdlr_core_column]\n[/gdlr_core_row]
URL:https://cityofbridgesfoundation.org/event/cooking-class-2/
LOCATION:Turkish Cultural Center\, 1459 Crane Ave\, Pittsburgh\, 15220\, United States
CATEGORIES:COBF Events
ATTACH;FMTTYPE=application/pdf:https://cityofbridgesfoundation.org/wp-content/uploads/2023/08/DOC-20230814-WA0010.pdf
ORGANIZER;CN="Turkish Cultural Center":MAILTO:info@cityofbridgesfoundation.org
END:VEVENT
BEGIN:VEVENT
DTSTART;TZID=America/New_York:20230813T140000
DTEND;TZID=America/New_York:20230813T170000
DTSTAMP:20260424T115253
CREATED:20230624T163153Z
LAST-MODIFIED:20230624T163603Z
UID:9140-1691935200-1691946000@cityofbridgesfoundation.org
SUMMARY:Join Us at the Annual Interfaith Picnic: Celebrating Unity and Diversity!
DESCRIPTION:Dear Friends\, \nWe are delighted to extend a warm invitation to you for the Annual Interfaith Picnic organized by the Turkish Cultural Center of Pittsburgh. This event aims to foster unity\, understanding\, and friendship among people from various faiths and backgrounds. We believe that coming together as a community is an excellent way to celebrate our shared values and embrace our beautiful diversity. \nWe have planned an exciting program for the afternoon. including engaging activities and opportunities to connect with fellow community members. This event offers an excellent platform to learn from one another\, build bridges of understanding\, and celebrate the unique cultural traditions that enrich our lives. \nTo assist us in organizing a memorable event\, we kindly request that you RSVP by August 10th using the following link. Your response will help us estimate the number of attendees and plan accordingly. \nAdditionally\, if you would like to contribute to the picnic\, by bringing dishes for sharing\, we would be thrilled to have your culinary creations. We kindly request that you bring the dishes along with an ingredients explanation paper to ensure that everyone can enjoy the shared food while being mindful of dietary restrictions and preferences. \nWe encourage you to invite your friends\, family\, and neighbors to join us for this joyous occasion. The more diverse the gathering\, the richer the experience for all participants. \nWe are eagerly looking forward to your presence at the Annual Interfaith Picnic. Let’s come together\, enjoy delicious food\, and engage in meaningful conversations\, and strengthen the bonds that make our community so special. \nShould you have any questions or require further information\, please do not hesitate to contact us at benjamin@cityofbridgesfoundation.org. \nThank you for your support\, and we look forward to celebrating with you on August 13th! \n 
URL:https://cityofbridgesfoundation.org/event/join-us-at-the-annual-interfaith-picnic-celebrating-unity-and-diversity/
LOCATION:Scott Township Park\, Locust Shelter\, Scott Township PArk\, Pittsburgh\, PA\, 15106\, United States
CATEGORIES:COBF Events
ATTACH;FMTTYPE=image/png:https://cityofbridgesfoundation.org/wp-content/uploads/2023/06/Interfaith-Picnic-2023.png
ORGANIZER;CN="Turkish Cultural Center":MAILTO:info@cityofbridgesfoundation.org
END:VEVENT
BEGIN:VEVENT
DTSTART;TZID=America/New_York:20230530T180000
DTEND;TZID=America/New_York:20230530T200000
DTSTAMP:20260424T115253
CREATED:20230529T032814Z
LAST-MODIFIED:20230529T032826Z
UID:9109-1685469600-1685476800@cityofbridgesfoundation.org
SUMMARY:COBF TEACHER APPRECIATION WEEK
DESCRIPTION:We would like to take this opprtunity to express our gratitude and appreciation for your hard work and dedication in educating our children.\nAs a small token of our appreciation\, we would like to invite you to the Teacher Appreciation Dinner\, which will be held on Tuesday\, May 30th\, at The Turkish Cultural Center Pittsburgh Building.
URL:https://cityofbridgesfoundation.org/event/cobf-teacher-appreciation-week/
LOCATION:Turkish Cultural Center\, 1459 Crane Ave\, Pittsburgh\, 15220\, United States
CATEGORIES:COBF Events
ATTACH;FMTTYPE=image/jpeg:https://cityofbridgesfoundation.org/wp-content/uploads/2023/05/COBF-TEACHER-APPRECIATION-WEEK-FLYER-scaled.jpg
ORGANIZER;CN="Turkish Cultural Center":MAILTO:info@cityofbridgesfoundation.org
END:VEVENT
BEGIN:VEVENT
DTSTART;TZID=America/New_York:20230419T190000
DTEND;TZID=America/New_York:20230419T210000
DTSTAMP:20260424T115253
CREATED:20230321T203234Z
LAST-MODIFIED:20230321T203234Z
UID:9006-1681930800-1681938000@cityofbridgesfoundation.org
SUMMARY:A SHARED TABLE\, A SHARED HUMANITY: AN INTERFAITH IFTAR DINNER FOR DISASTER RELIEF
DESCRIPTION:With the holy of Ramadhan upon us\, it gives us great pleasure to invite you for an Iftar dinner. We hope that you will join uus breaking the fast together and enjoy the delicious traditional Ramadhan dishes that have been specially prepared for this occasion. \nEmbrace Relief Foundation will share with us how they are currently conveying much needed aid (food\, water & shelter) to earthquake victims in Turkey.
URL:https://cityofbridgesfoundation.org/event/a-shared-table-a-shared-humanity-an-interfaith-iftar-dinner-for-disaster-relief/
LOCATION:Turkish Cultural Center\, 1459 Crane Ave\, Pittsburgh\, 15220\, United States
CATEGORIES:COBF Events
ATTACH;FMTTYPE=image/jpeg:https://cityofbridgesfoundation.org/wp-content/uploads/2023/03/RAMADHAN-IFTAR-INVITATION-FOR-INTERFAITH-MEMBERS.jpg
ORGANIZER;CN="Turkish Cultural Center":MAILTO:info@cityofbridgesfoundation.org
END:VEVENT
BEGIN:VEVENT
DTSTART;TZID=America/New_York:20230411T190000
DTEND;TZID=America/New_York:20230411T210000
DTSTAMP:20260424T115253
CREATED:20230321T215922Z
LAST-MODIFIED:20230321T215922Z
UID:9009-1681239600-1681246800@cityofbridgesfoundation.org
SUMMARY:LETS CELEBRATE THE IFTAR TOGETHER (LITTERACY PITTSBURGH)
DESCRIPTION:With the holy of Ramadhan upon us\, it gives us great pleaseure to invite you ofr an Iftar dinner. We hope that you will join us breaking the fast together and enjoy the delicios traditional Ramadhan dishes that have been specially prepared for this occasion. The event promises to be an evening of good food\, fellowship and celebration.
URL:https://cityofbridgesfoundation.org/event/lets-celebrate-the-iftar-together-litteracy-pittsburgh/
LOCATION:Turkish Cultural Center\, 1459 Crane Ave\, Pittsburgh\, 15220\, United States
CATEGORIES:COBF Events
ATTACH;FMTTYPE=image/jpeg:https://cityofbridgesfoundation.org/wp-content/uploads/2023/03/RAMADHAN-IFTAR-INVITATION-FOR-LITTERACY-PITTSBURGH.jpg
ORGANIZER;CN="Turkish Cultural Center":MAILTO:info@cityofbridgesfoundation.org
END:VEVENT
BEGIN:VEVENT
DTSTART;TZID=America/New_York:20230327T060000
DTEND;TZID=America/New_York:20230327T200000
DTSTAMP:20260424T115253
CREATED:20230321T220618Z
LAST-MODIFIED:20230321T220623Z
UID:9013-1679896800-1679947200@cityofbridgesfoundation.org
SUMMARY:LET'S CELEBRATE THE IFTAR TOGETHER (LAW ENFORCEMENT)
DESCRIPTION:We cordially invite you to join us for an evening of delicious food\, engaging conversations\, and cultural exchange. This event will be an opportunity for us to strengthen our bonds with each other and to promote understanding and harmony between law enforcement officials and the Turkish community.
URL:https://cityofbridgesfoundation.org/event/lets-celebrate-the-iftar-together-law-enforcement/
LOCATION:Turkish Cultural Center\, 1459 Crane Ave\, Pittsburgh\, 15220\, United States
CATEGORIES:COBF Events
ATTACH;FMTTYPE=image/jpeg:https://cityofbridgesfoundation.org/wp-content/uploads/2023/03/RAMADHAN-IFTAR-INVITATION-FOR-LAW-ENFORCEMENT.jpg
ORGANIZER;CN="Turkish Cultural Center":MAILTO:info@cityofbridgesfoundation.org
END:VEVENT
BEGIN:VEVENT
DTSTART;TZID=America/New_York:20230227T183000
DTEND;TZID=America/New_York:20230227T203000
DTSTAMP:20260424T115253
CREATED:20230129T222613Z
LAST-MODIFIED:20230129T222613Z
UID:8776-1677522600-1677529800@cityofbridgesfoundation.org
SUMMARY:Hearts & Minds Book Signing
DESCRIPTION:The City of Bridges Foundation will be hosting Dr Vincent Parillo\, a Professor Emeritus of Sociology from William Paterson University on February 27th at 6:30pm\, at the Turkish Cultural Center building. He will be introducing and discussing his recent book entitled  “Hearts and Minds”.  Book sales will be available for signing. After the discussion we will have a question and answer session. Dinner will be served at the end of the program where you will have the opportunity to meet and talk with the author. \n[gdlr_core_row]\n[gdlr_core_column size=”1/3″][/gdlr_core_column]\n[gdlr_core_column size=”2/3″]Dr Parillo’s book “Hearts and Minds” is a comparative\, qualitative research study of an educational phenomenon still functioning worldwide: Hizmet. \nDr. Parrillo and Dr. Ansari present a cross-cultural study of Hizmet schools in seven countries of varying histories and ethnic compositions. Some are fairly homogeneous\, while others are long standing multicultural\, multiracial societies. Some have Muslim-majority populations\, others a small Muslim minority. \n[/gdlr_core_column] \n[/gdlr_core_row] \n  \nThrough hundreds of interviews with students\, parents\, staff\, and financial supporters\, the authors explored individual perceptions and experiences\, as well as the triad of student/parent/school interaction. Analyzing the commonality of the schools’ structures and processes in different settings\, they offer their insights about the schools’ success in achieving their twin goals of offering a quality education and promoting interethnic harmony. \nWe would be delighted to have the opportunity to welcome you in person and meet with our guest author. \n[gdlr_core_button button-text=”Register Now” button-link=”https://docs.google.com/forms/d/e/1FAIpQLSeiV0bTuckkcIU1RUSYUZGG3gpjru8qvMf0DbcMYHXhMf5amA/viewform” button-link-target=”_blank” margin-right=”20px” ]
URL:https://cityofbridgesfoundation.org/event/hearts-minds-book-signing/
LOCATION:Turkish Cultural Center\, 1459 Crane Ave\, Pittsburgh\, 15220\, United States
CATEGORIES:COBF Events
ATTACH;FMTTYPE=image/jpeg:https://cityofbridgesfoundation.org/wp-content/uploads/2023/01/Book-Signing-with-Dr-Parrillo.jpg
ORGANIZER;CN="Turkish Cultural Center":MAILTO:info@cityofbridgesfoundation.org
END:VEVENT
BEGIN:VEVENT
DTSTART;TZID=America/New_York:20230219T170000
DTEND;TZID=America/New_York:20230219T190000
DTSTAMP:20260424T115253
CREATED:20230215T022131Z
LAST-MODIFIED:20230215T023417Z
UID:8934-1676826000-1676833200@cityofbridgesfoundation.org
SUMMARY:Together in Prayer for Turkey and Syria
DESCRIPTION:Join Southwest Pennsylvania’s interfaith community for a vigil following the devastating earthquakes in Turkiye and Syria. Come together across our diverse faith traditions as we lament those who have died\, seek healing for survivors\, support our Turkish and Syrian neighbors\, and ask divine mercy on all nations.\n\n  \nCo-sponsoring organizations include the Turkish Cultural Center\, Christian Associates of Southwest Pennsylvania\, the Jewish Federation of Greater Pittsburgh’s Community Relations Council\, the Center for Loving Kindness at the Jewish Community Center of Greater Pittsburgh\, the Buddhist Society of Pittsburgh\, AHINSA\, the Roman Catholic Diocese of Pittsburgh\, the Southwestern PA Synod of the Evangelical Lutheran Church in America\, the Church of Jesus Christ of Latter-Day Saints\, Christ Church\, Temple Emmanuel of the South Hills\, Congregation Beth Shalom\, and Temple Sinai.\n\n  \nContact Rev. Liddy Barlow\, lbarlow@casp.org\, with questions or to add your organization as a co-sponsor.
URL:https://cityofbridgesfoundation.org/event/together-in-prayer-for-turkey-and-syria/
LOCATION:Christ United Methodist\, 44 Highland Rd\, Bethel Park\, PA\, 15102\, United States
CATEGORIES:COBF Events
ATTACH;FMTTYPE=image/jpeg:https://cityofbridgesfoundation.org/wp-content/uploads/2023/02/Earthquake.jpg
ORGANIZER;CN="Christian Associates of Southwest Pennsylvania":MAILTO:lbarlow@casp.org
END:VEVENT
BEGIN:VEVENT
DTSTART;TZID=America/New_York:20230121T130000
DTEND;TZID=America/New_York:20230121T160000
DTSTAMP:20260424T115253
CREATED:20230108T221010Z
LAST-MODIFIED:20230108T221707Z
UID:8558-1674306000-1674316800@cityofbridgesfoundation.org
SUMMARY:Cooking Class
DESCRIPTION:[gdlr_core_title title=”GOOD FOOD! GOOD MOOD!” caption=”” ] \nJoin us to cook and enjoy healthy recipes from Turkish Cuisine ! \nBaklava and Turkish Coffee will be served\, to !!! \nPlease register with the link below in order to join. \n  \n  \n 
URL:https://cityofbridgesfoundation.org/event/cooking-class/
LOCATION:ST. PAUL’s EPISCOPAL CHURCH\, 1066 Washington Rd\, Pittsburgh\, PA\, 15228\, United States
CATEGORIES:COBF Events
ATTACH;FMTTYPE=image/jpeg:https://cityofbridgesfoundation.org/wp-content/uploads/2023/01/Cooking-CLass-Flyer-Landscape.jpg
ORGANIZER;CN="Turkish Cultural Center":MAILTO:info@cityofbridgesfoundation.org
END:VEVENT
BEGIN:VEVENT
DTSTART;TZID=America/New_York:20230109T180000
DTEND;TZID=America/New_York:20230109T200000
DTSTAMP:20260424T115253
CREATED:20230103T045040Z
LAST-MODIFIED:20230109T044412Z
UID:8295-1673287200-1673294400@cityofbridgesfoundation.org
SUMMARY:Knowing EachOther Episode 3
DESCRIPTION:
URL:https://cityofbridgesfoundation.org/event/knowing-eachother-episode-3/
LOCATION:ST. PAUL’s EPISCOPAL CHURCH\, 1066 Washington Rd\, Pittsburgh\, PA\, 15228\, United States
CATEGORIES:COBF Events
ATTACH;FMTTYPE=image/jpeg:https://cityofbridgesfoundation.org/wp-content/uploads/2023/01/Knowing-EachOther-JPG-scaled.jpg
END:VEVENT
BEGIN:VEVENT
DTSTART;TZID=America/New_York:20230104T080000
DTEND;TZID=America/New_York:20230104T090000
DTSTAMP:20260424T115253
CREATED:20230104T022558Z
LAST-MODIFIED:20230108T221749Z
UID:8310-1672819200-1672822800@cityofbridgesfoundation.org
SUMMARY:testing
DESCRIPTION:This is for testing
URL:https://cityofbridgesfoundation.org/event/testing/
CATEGORIES:COBF Events
ATTACH;FMTTYPE=image/webp:https://cityofbridgesfoundation.org/wp-content/uploads/2021/12/recept-zo-maak-je-turkse-sigara-boregi.webp
END:VEVENT
END:VCALENDAR