BEGIN:VCALENDAR
VERSION:2.0
PRODID:-//City of Bridges Foundation - ECPv6.15.20//NONSGML v1.0//EN
CALSCALE:GREGORIAN
METHOD:PUBLISH
X-ORIGINAL-URL:https://cityofbridgesfoundation.org
X-WR-CALDESC:Events for City of Bridges Foundation
REFRESH-INTERVAL;VALUE=DURATION:PT1H
X-Robots-Tag:noindex
X-PUBLISHED-TTL:PT1H
BEGIN:VTIMEZONE
TZID:America/New_York
BEGIN:DAYLIGHT
TZOFFSETFROM:-0500
TZOFFSETTO:-0400
TZNAME:EDT
DTSTART:20220313T070000
END:DAYLIGHT
BEGIN:STANDARD
TZOFFSETFROM:-0400
TZOFFSETTO:-0500
TZNAME:EST
DTSTART:20221106T060000
END:STANDARD
BEGIN:DAYLIGHT
TZOFFSETFROM:-0500
TZOFFSETTO:-0400
TZNAME:EDT
DTSTART:20230312T070000
END:DAYLIGHT
BEGIN:STANDARD
TZOFFSETFROM:-0400
TZOFFSETTO:-0500
TZNAME:EST
DTSTART:20231105T060000
END:STANDARD
BEGIN:DAYLIGHT
TZOFFSETFROM:-0500
TZOFFSETTO:-0400
TZNAME:EDT
DTSTART:20240310T070000
END:DAYLIGHT
BEGIN:STANDARD
TZOFFSETFROM:-0400
TZOFFSETTO:-0500
TZNAME:EST
DTSTART:20241103T060000
END:STANDARD
END:VTIMEZONE
BEGIN:VEVENT
DTSTART;TZID=America/New_York:20230227T183000
DTEND;TZID=America/New_York:20230227T203000
DTSTAMP:20260424T133543
CREATED:20230129T222613Z
LAST-MODIFIED:20230129T222613Z
UID:8776-1677522600-1677529800@cityofbridgesfoundation.org
SUMMARY:Hearts & Minds Book Signing
DESCRIPTION:The City of Bridges Foundation will be hosting Dr Vincent Parillo\, a Professor Emeritus of Sociology from William Paterson University on February 27th at 6:30pm\, at the Turkish Cultural Center building. He will be introducing and discussing his recent book entitled  “Hearts and Minds”.  Book sales will be available for signing. After the discussion we will have a question and answer session. Dinner will be served at the end of the program where you will have the opportunity to meet and talk with the author. \n[gdlr_core_row]\n[gdlr_core_column size=”1/3″][/gdlr_core_column]\n[gdlr_core_column size=”2/3″]Dr Parillo’s book “Hearts and Minds” is a comparative\, qualitative research study of an educational phenomenon still functioning worldwide: Hizmet. \nDr. Parrillo and Dr. Ansari present a cross-cultural study of Hizmet schools in seven countries of varying histories and ethnic compositions. Some are fairly homogeneous\, while others are long standing multicultural\, multiracial societies. Some have Muslim-majority populations\, others a small Muslim minority. \n[/gdlr_core_column] \n[/gdlr_core_row] \n  \nThrough hundreds of interviews with students\, parents\, staff\, and financial supporters\, the authors explored individual perceptions and experiences\, as well as the triad of student/parent/school interaction. Analyzing the commonality of the schools’ structures and processes in different settings\, they offer their insights about the schools’ success in achieving their twin goals of offering a quality education and promoting interethnic harmony. \nWe would be delighted to have the opportunity to welcome you in person and meet with our guest author. \n[gdlr_core_button button-text=”Register Now” button-link=”https://docs.google.com/forms/d/e/1FAIpQLSeiV0bTuckkcIU1RUSYUZGG3gpjru8qvMf0DbcMYHXhMf5amA/viewform” button-link-target=”_blank” margin-right=”20px” ]
URL:https://cityofbridgesfoundation.org/event/hearts-minds-book-signing/
LOCATION:Turkish Cultural Center\, 1459 Crane Ave\, Pittsburgh\, 15220\, United States
CATEGORIES:COBF Events
ATTACH;FMTTYPE=image/jpeg:https://cityofbridgesfoundation.org/wp-content/uploads/2023/01/Book-Signing-with-Dr-Parrillo.jpg
ORGANIZER;CN="Turkish Cultural Center":MAILTO:info@cityofbridgesfoundation.org
END:VEVENT
BEGIN:VEVENT
DTSTART;TZID=America/New_York:20230219T170000
DTEND;TZID=America/New_York:20230219T190000
DTSTAMP:20260424T133543
CREATED:20230215T022131Z
LAST-MODIFIED:20230215T023417Z
UID:8934-1676826000-1676833200@cityofbridgesfoundation.org
SUMMARY:Together in Prayer for Turkey and Syria
DESCRIPTION:Join Southwest Pennsylvania’s interfaith community for a vigil following the devastating earthquakes in Turkiye and Syria. Come together across our diverse faith traditions as we lament those who have died\, seek healing for survivors\, support our Turkish and Syrian neighbors\, and ask divine mercy on all nations.\n\n  \nCo-sponsoring organizations include the Turkish Cultural Center\, Christian Associates of Southwest Pennsylvania\, the Jewish Federation of Greater Pittsburgh’s Community Relations Council\, the Center for Loving Kindness at the Jewish Community Center of Greater Pittsburgh\, the Buddhist Society of Pittsburgh\, AHINSA\, the Roman Catholic Diocese of Pittsburgh\, the Southwestern PA Synod of the Evangelical Lutheran Church in America\, the Church of Jesus Christ of Latter-Day Saints\, Christ Church\, Temple Emmanuel of the South Hills\, Congregation Beth Shalom\, and Temple Sinai.\n\n  \nContact Rev. Liddy Barlow\, lbarlow@casp.org\, with questions or to add your organization as a co-sponsor.
URL:https://cityofbridgesfoundation.org/event/together-in-prayer-for-turkey-and-syria/
LOCATION:Christ United Methodist\, 44 Highland Rd\, Bethel Park\, PA\, 15102\, United States
CATEGORIES:COBF Events
ATTACH;FMTTYPE=image/jpeg:https://cityofbridgesfoundation.org/wp-content/uploads/2023/02/Earthquake.jpg
ORGANIZER;CN="Christian Associates of Southwest Pennsylvania":MAILTO:lbarlow@casp.org
END:VEVENT
BEGIN:VEVENT
DTSTART;TZID=America/New_York:20230121T130000
DTEND;TZID=America/New_York:20230121T160000
DTSTAMP:20260424T133543
CREATED:20230108T221010Z
LAST-MODIFIED:20230108T221707Z
UID:8558-1674306000-1674316800@cityofbridgesfoundation.org
SUMMARY:Cooking Class
DESCRIPTION:[gdlr_core_title title=”GOOD FOOD! GOOD MOOD!” caption=”” ] \nJoin us to cook and enjoy healthy recipes from Turkish Cuisine ! \nBaklava and Turkish Coffee will be served\, to !!! \nPlease register with the link below in order to join. \n  \n  \n 
URL:https://cityofbridgesfoundation.org/event/cooking-class/
LOCATION:ST. PAUL’s EPISCOPAL CHURCH\, 1066 Washington Rd\, Pittsburgh\, PA\, 15228\, United States
CATEGORIES:COBF Events
ATTACH;FMTTYPE=image/jpeg:https://cityofbridgesfoundation.org/wp-content/uploads/2023/01/Cooking-CLass-Flyer-Landscape.jpg
ORGANIZER;CN="Turkish Cultural Center":MAILTO:info@cityofbridgesfoundation.org
END:VEVENT
BEGIN:VEVENT
DTSTART;TZID=America/New_York:20230109T180000
DTEND;TZID=America/New_York:20230109T200000
DTSTAMP:20260424T133543
CREATED:20230103T045040Z
LAST-MODIFIED:20230109T044412Z
UID:8295-1673287200-1673294400@cityofbridgesfoundation.org
SUMMARY:Knowing EachOther Episode 3
DESCRIPTION:
URL:https://cityofbridgesfoundation.org/event/knowing-eachother-episode-3/
LOCATION:ST. PAUL’s EPISCOPAL CHURCH\, 1066 Washington Rd\, Pittsburgh\, PA\, 15228\, United States
CATEGORIES:COBF Events
ATTACH;FMTTYPE=image/jpeg:https://cityofbridgesfoundation.org/wp-content/uploads/2023/01/Knowing-EachOther-JPG-scaled.jpg
END:VEVENT
BEGIN:VEVENT
DTSTART;TZID=America/New_York:20230104T080000
DTEND;TZID=America/New_York:20230104T090000
DTSTAMP:20260424T133543
CREATED:20230104T022558Z
LAST-MODIFIED:20230108T221749Z
UID:8310-1672819200-1672822800@cityofbridgesfoundation.org
SUMMARY:testing
DESCRIPTION:This is for testing
URL:https://cityofbridgesfoundation.org/event/testing/
LOCATION:PA
CATEGORIES:COBF Events
ATTACH;FMTTYPE=image/webp:https://cityofbridgesfoundation.org/wp-content/uploads/2021/12/recept-zo-maak-je-turkse-sigara-boregi.webp
END:VEVENT
END:VCALENDAR